Workbook

Sheet formulier
B2: UITSLAGFORMULIER RONDE NR. | H2: 2 | J2: HVSB Bandstoten 25-26
B4: vereniging thuis: | D4: BC TUINDORP 1 | K4: vereniging uit: | M4: BC TUBANTIA 3
C6: 2 | D6: 4 | L6: 2 | M6: 4
C8: naam | D8: te m | E8: gem | F8: brt | G8: pnt | H8: sc. % | I8: moy. | J8: d | K8: nr. | L8: naam | M8: te m | N8: gem | O8: brt | P8: pnt | Q8: sc. % | R8: moy. | S8: d
B9: 230 | C9: =IF(ISBLANK($B9),"",IF(ISNA(VLOOKUP($B9,Namen!$A$1:$E$250,formulier!C$6,FALSE)),"Onbekend",VLOOKUP($B9,Namen!$A$1:$E$250,formulier!C$6,FALSE))) -> dijkstra willem | D9: =IF(ISBLANK(B9),"",IF(ISNA(VLOOKUP(B9,Namen!$A$1:$E$250,formulier!D$6+J9,FALSE)),"Onbekend",VLOOKUP(B9,Namen!$A$1:$E$250,formulier!D$6+J9,FALSE))) -> 32 | G9: =IF(ISBLANK(B9),"",INT(E9/(D9/10))) -> 0 | H9: =IF(AND(D9<1000,D9>0),E9/D9,"") -> 0 | I9: =IF(F9>0,E9/F9,"") | J9: =IF(COUNTIF(B$9:B9,B9)-1<0,0,COUNTIF(B$9:B9,B9)-1) -> 0 | K9: 308 | L9: =IF(ISBLANK($K9),"",IF(ISNA(VLOOKUP($K9,Namen!$A$1:$E$250,formulier!C$6,FALSE)),"Onbekend",VLOOKUP($K9,Namen!$A$1:$E$250,formulier!C$6,FALSE))) -> groot frans | M9: =IF(ISBLANK(K9),"",IF(ISNA(VLOOKUP(K9,Namen!$A$1:$E$250,formulier!M$6+S9,FALSE)),"Onbekend",VLOOKUP(K9,Namen!$A$1:$E$250,formulier!M$6+S9,FALSE))) -> 32 | P9: =IF(ISBLANK(K9),"",INT(N9/(M9/10))) -> 0 | Q9: =IF(AND(M9<1000,M9>0),N9/M9,"") -> 0 | R9: =IF(O9>0,N9/O9,"") | S9: =IF(COUNTIF(K$9:K9,K9)-1<0,0,COUNTIF(K$9:K9,K9)-1) -> 0
C10: =IF(ISBLANK($B10),"",IF(ISNA(VLOOKUP($B10,Namen!$A$1:$E$250,formulier!C$6,FALSE)),"Onbekend",VLOOKUP($B10,Namen!$A$1:$E$250,formulier!C$6,FALSE))) | D10: =IF(ISBLANK(B10),"",IF(ISNA(VLOOKUP(B10,Namen!$A$1:$E$250,formulier!D$6+J10,FALSE)),"Onbekend",VLOOKUP(B10,Namen!$A$1:$E$250,formulier!D$6+J10,FALSE))) | G10: =IF(ISBLANK(B10),"",INT(E10/(D10/10))) | H10: =IF(AND(D10<1000,D10>0),E10/D10,"") | I10: =IF(F10>0,E10/F10,"") | J10: =IF(COUNTIF(B$9:B11,#REF!)-1<0,0,COUNTIF(B$9:B11,#REF!)-1) -> 0 | K10: 301 | L10: =IF(ISBLANK($K10),"",IF(ISNA(VLOOKUP($K10,Namen!$A$1:$E$250,formulier!C$6,FALSE)),"Onbekend",VLOOKUP($K10,Namen!$A$1:$E$250,formulier!C$6,FALSE))) -> tilmans jan | M10: =IF(ISBLANK(K10),"",IF(ISNA(VLOOKUP(K10,Namen!$A$1:$E$250,formulier!M$6+S10,FALSE)),"Onbekend",VLOOKUP(K10,Namen!$A$1:$E$250,formulier!M$6+S10,FALSE))) -> 32 | O10: =F10 -> 0 | P10: =IF(ISBLANK(K10),"",INT(N10/(M10/10))) -> 0 | Q10: =IF(AND(M10<1000,M10>0),N10/M10,"") -> 0 | R10: =IF(O10>0,N10/O10,"") | S10: =IF(COUNTIF(K$9:K10,K10)-1<0,0,COUNTIF(K$9:K10,K10)-1) -> 0
C11: =IF(ISBLANK($B11),"",IF(ISNA(VLOOKUP($B11,Namen!$A$1:$E$250,formulier!C$6,FALSE)),"Onbekend",VLOOKUP($B11,Namen!$A$1:$E$250,formulier!C$6,FALSE))) | D11: =IF(ISBLANK(B11),"",IF(ISNA(VLOOKUP(B11,Namen!$A$1:$E$250,formulier!D$6+J11,FALSE)),"Onbekend",VLOOKUP(B11,Namen!$A$1:$E$250,formulier!D$6+J11,FALSE))) | G11: =IF(ISBLANK(B11),"",INT(E11/(D11/10))) | H11: =IF(AND(D11<1000,D11>0),E11/D11,"") | I11: =IF(F11>0,E11/F11,"") | J11: =IF(COUNTIF(B$9:B11,#REF!)-1<0,0,COUNTIF(B$9:B11,#REF!)-1) -> 0 | K11: 310 | L11: =IF(ISBLANK($K11),"",IF(ISNA(VLOOKUP($K11,Namen!$A$1:$E$250,formulier!C$6,FALSE)),"Onbekend",VLOOKUP($K11,Namen!$A$1:$E$250,formulier!C$6,FALSE))) -> nijhof henk | M11: =IF(ISBLANK(K11),"",IF(ISNA(VLOOKUP(K11,Namen!$A$1:$E$250,formulier!M$6+S11,FALSE)),"Onbekend",VLOOKUP(K11,Namen!$A$1:$E$250,formulier!M$6+S11,FALSE))) -> 27 | O11: =F11 -> 0 | P11: =IF(ISBLANK(K11),"",INT(N11/(M11/10))) -> 0 | Q11: =IF(AND(M11<1000,M11>0),N11/M11,"") -> 0 | R11: =IF(O11>0,N11/O11,"") | S11: =IF(COUNTIF(K$9:K11,K11)-1<0,0,COUNTIF(K$9:K11,K11)-1) -> 0
C12: =IF(ISBLANK($B12),"",IF(ISNA(VLOOKUP($B12,Namen!$A$1:$E$250,formulier!C$6,FALSE)),"Onbekend",VLOOKUP($B12,Namen!$A$1:$E$250,formulier!C$6,FALSE))) | D12: =IF(ISBLANK(B12),"",IF(ISNA(VLOOKUP(B12,Namen!$A$1:$E$250,formulier!D$6+J12,FALSE)),"Onbekend",VLOOKUP(B12,Namen!$A$1:$E$250,formulier!D$6+J12,FALSE))) | G12: =IF(ISBLANK(B12),"",INT(E12/(D12/10))) | H12: =IF(AND(D12<1000,D12>0),E12/D12,"") | I12: =IF(F12>0,E12/F12,"") | J12: =IF(COUNTIF(B$9:B12,B12)-1<0,0,COUNTIF(B$9:B12,B12)-1) -> 0 | L12: =IF(ISBLANK($K12),"",IF(ISNA(VLOOKUP($K12,Namen!$A$1:$E$250,formulier!C$6,FALSE)),"Onbekend",VLOOKUP($K12,Namen!$A$1:$E$250,formulier!C$6,FALSE))) | M12: =IF(ISBLANK(K12),"",IF(ISNA(VLOOKUP(K12,Namen!$A$1:$E$250,formulier!M$6+S12,FALSE)),"Onbekend",VLOOKUP(K12,Namen!$A$1:$E$250,formulier!M$6+S12,FALSE))) | O12: =F12 -> 0 | P12: =IF(ISBLANK(K12),"",INT(N12/(M12/10))) | Q12: =IF(AND(M12<1000,M12>0),N12/M12,"") | R12: =IF(O12>0,N12/O12,"") | S12: =IF(COUNTIF(K$9:K12,K12)-1<0,0,COUNTIF(K$9:K12,K12)-1) -> 0
C13: Totalen: | D13: =SUM(D9:D12) -> 32 | E13: =SUM(E9:E12) -> 0 | F13: =SUM(F9:F12) -> 0 | G13: =SUM(G9:G12) -> 0 | H13: =IF(D13>0,E13/D13,"") -> 0 | I13: =IF(F13>0,E13/F13,"") | L13: Totalen: | M13: =SUM(M9:M12) -> 91 | N13: =SUM(N9:N12) -> 0 | O13: =SUM(O9:O12) -> 0 | P13: =SUM(P9:P12) -> 0 | Q13: =IF(M13>0,N13/M13,"") -> 0 | R13: =IF(O13>0,N13/O13,"")
B16: wedstrijddatum: | D16: VR.O. 240426 ** 09.30 | P16: par.Teamleider thuis
B18: bijzonderheden: | D18: update 26.09.25
P20: par.Teamleider uit
A26: Wanneer een speler een dubbele partij moet spelen dan opnieuw zijn spelersnummer in de juiste kolom vermelden.
A27: Voor het thuisspelende team is dat altijd in kolom B rij 12 | K27: Voor het uitspelende team is dat altijd kolom K rij 12
A28: LET OP : ALLEEN DE WITTE VAKKEN INVULLEN !!!!!!

Sheet Namen
A1: bc DRILSCHOLTEN
H2: update 31.03.26
A3: 175 | B3: kessel van wim | D3: 27
A4: 176 | B4: beek van jan | D4: 30 | I4: BANDSTOOT
A5: 177 | B5: schothuis john | D5: 25
A6: 178 | B6: zander gerrit | D6: 27
A7: 179 | B7: snijders fred | D7: 45
A8: 180 | B8: tijert harry | D8: 32
A9: 181 | B9: snijders gerard | D9: 30
A10: 182 | B10: oberje paul | D10: 27
A11: 183 | B11: meijer gerard | D11: 17
A12: 184
A13: 185 | B13: snijders hemmy | D13: 17
A14: 186
A15: 187 | B15: karperien frans | D15: 22
A25: bc HBC
A27: 200 | B27: rekers rob | D27: 30
A28: 201 | B28: schuurman henk | D28: 35
A29: 202 | B29: dijkstra hemmy | D29: 25
A30: 203 | B30: kamphuis hans | D30: 20
A31: 204 | B31: perik henk | D31: 25
A32: 205 | B32: godeke gerrie | D32: 17
A33: 206 | B33: nieuwenhuis hendrik | D33: 20
A34: 207 | B34: meisel-kemper elvira | D34: 15
A35: 208 | B35: benneker olde joop | D35: 17
A36: 209 | B36: kiers addie | D36: 30
A37: 210 | B37: platenkamp jos | D37: 50
A38: 211 | B38: rooselaar gerrit | D38: 30
A39: 212 | B39: muntz luuk | D39: 17
A40: 213 | B40: nijland henk
A41: 214 | B41: nijenhuis chris | D41: 15
A42: 215 | B42: grunder reginald | D42: 15
A43: 216 | B43: jose kamphuis | D43: 25
A50: bc TUINDORP
A51: 230 | B51: dijkstra willem | D51: 32
A52: 231 | B52: overbeek carrie | D52: 27
A53: 232 | B53: bathoorn rudy | D53: 25
A54: 233 | B54: wilmink jan | D54: 22
A55: 234 | B55: grimberg gerrit | D55: 20
A56: 235 | B56: satink andre | D56: 25
...
