Workbook

Sheet formulier
B2: UITSLAGFORMULIER RONDE NR. | H2: 2 | J2: HVSB Bandstoten 25-26
B4: vereniging thuis: | D4: BC TUINDORP 1 | K4: vereniging uit: | M4: BC TUBANTIA 3
C6: 2 | D6: 4 | L6: 2 | M6: 4
C8: naam | D8: te m | E8: gem | F8: brt | G8: pnt | H8: sc. % | I8: moy. | J8: d | K8: nr. | L8: naam | M8: te m | N8: gem | O8: brt | P8: pnt | Q8: sc. % | R8: moy. | S8: d
B9: 230 | C9: =IF(ISBLANK($B9),"",IF(ISNA(VLOOKUP($B9,Namen!$A$1:$E$250,formulier!C$6,FALSE)),"Onbekend",VLOOKUP($B9,Namen!$A$1:$E$250,formulier!C$6,FALSE))) -> dijkstra willem | D9: =IF(ISBLANK(B9),"",IF(ISNA(VLOOKUP(B9,Namen!$A$1:$E$250,formulier!D$6+J9,FALSE)),"Onbekend",VLOOKUP(B9,Namen!$A$1:$E$250,formulier!D$6+J9,FALSE))) -> 32 | G9: =IF(ISBLANK(B9),"",INT(E9/(D9/10))) -> 0 | H9: =IF(AND(D9<1000,D9>0),E9/D9,"") -> 0 | I9: =IF(F9>0,E9/F9,"") | J9: =IF(COUNTIF(B$9:B9,B9)-1<0,0,COUNTIF(B$9:B9,B9)-1) -> 0 | K9: 308 | L9: =IF(ISBLANK($K9),"",IF(ISNA(VLOOKUP($K9,Namen!$A$1:$E$250,formulier!C$6,FALSE)),"Onbekend",VLOOKUP($K9,Namen!$A$1:$E$250,formulier!C$6,FALSE))) -> groot frans | M9: =IF(ISBLANK(K9),"",IF(ISNA(VLOOKUP(K9,Namen!$A$1:$E$250,formulier!M$6+S9,FALSE)),"Onbekend",VLOOKUP(K9,Namen!$A$1:$E$250,formulier!M$6+S9,FALSE))) -> 32 | P9: =IF(ISBLANK(K9),"",INT(N9/(M9/10))) -> 0 | Q9: =IF(AND(M9<1000,M9>0),N9/M9,"") -> 0 | R9: =IF(O9>0,N9/O9,"") | S9: =IF(COUNTIF(K$9:K9,K9)-1<0,0,COUNTIF(K$9:K9,K9)-1) -> 0
C10: =IF(ISBLANK($B10),"",IF(ISNA(VLOOKUP($B10,Namen!$A$1:$E$250,formulier!C$6,FALSE)),"Onbekend",VLOOKUP($B10,Namen!$A$1:$E$250,formulier!C$6,FALSE))) | D10: =IF(ISBLANK(B10),"",IF(ISNA(VLOOKUP(B10,Namen!$A$1:$E$250,formulier!D$6+J10,FALSE)),"Onbekend",VLOOKUP(B10,Namen!$A$1:$E$250,formulier!D$6+J10,FALSE))) | G10: =IF(ISBLANK(B10),"",INT(E10/(D10/10))) | H10: =IF(AND(D10<1000,D10>0),E10/D10,"") | I10: =IF(F10>0,E10/F10,"") | J10: =IF(COUNTIF(B$9:B11,#REF!)-1<0,0,COUNTIF(B$9:B11,#REF!)-1) -> 0 | K10: 301 | L10: =IF(ISBLANK($K10),"",IF(ISNA(VLOOKUP($K10,Namen!$A$1:$E$250,formulier!C$6,FALSE)),"Onbekend",VLOOKUP($K10,Namen!$A$1:$E$250,formulier!C$6,FALSE))) -> tilmans jan | M10: =IF(ISBLANK(K10),"",IF(ISNA(VLOOKUP(K10,Namen!$A$1:$E$250,formulier!M$6+S10,FALSE)),"Onbekend",VLOOKUP(K10,Namen!$A$1:$E$250,formulier!M$6+S10,FALSE))) -> 32 | O10: =F10 -> 0 | P10: =IF(ISBLANK(K10),"",INT(N10/(M10/10))) -> 0 | Q10: =IF(AND(M10<1000,M10>0),N10/M10,"") -> 0 | R10: =IF(O10>0,N10/O10,"") | S10: =IF(COUNTIF(K$9:K10,K10)-1<0,0,COUNTIF(K$9:K10,K10)-1) -> 0
C11: =IF(ISBLANK($B11),"",IF(ISNA(VLOOKUP($B11,Namen!$A$1:$E$250,formulier!C$6,FALSE)),"Onbekend",VLOOKUP($B11,Namen!$A$1:$E$250,formulier!C$6,FALSE))) | D11: =IF(ISBLANK(B11),"",IF(ISNA(VLOOKUP(B11,Namen!$A$1:$E$250,formulier!D$6+J11,FALSE)),"Onbekend",VLOOKUP(B11,Namen!$A$1:$E$250,formulier!D$6+J11,FALSE))) | G11: =IF(ISBLANK(B11),"",INT(E11/(D11/10))) | H11: =IF(AND(D11<1000,D11>0),E11/D11,"") | I11: =IF(F11>0,E11/F11,"") | J11: =IF(COUNTIF(B$9:B11,#REF!)-1<0,0,COUNTIF(B$9:B11,#REF!)-1) -> 0 | K11: 310 | L11: =IF(ISBLANK($K11),"",IF(ISNA(VLOOKUP($K11,Namen!$A$1:$E$250,formulier!C$6,FALSE)),"Onbekend",VLOOKUP($K11,Namen!$A$1:$E$250,formulier!C$6,FALSE))) -> nijhof henk | M11: =IF(ISBLANK(K11),"",IF(ISNA(VLOOKUP(K11,Namen!$A$1:$E$250,formulier!M$6+S11,FALSE)),"Onbekend",VLOOKUP(K11,Namen!$A$1:$E$250,formulier!M$6+S11,FALSE))) -> 27 | O11: =F11 -> 0 | P11: =IF(ISBLANK(K11),"",INT(N11/(M11/10))) -> 0 | Q11: =IF(AND(M11<1000,M11>0),N11/M11,"") -> 0 | R11: =IF(O11>0,N11/O11,"") | S11: =IF(COUNTIF(K$9:K11,K11)-1<0,0,COUNTIF(K$9:K11,K11)-1) -> 0
C12: =IF(ISBLANK($B12),"",IF(ISNA(VLOOKUP($B12,Namen!$A$1:$E$250,formulier!C$6,FALSE)),"Onbekend",VLOOKUP($B12,Namen!$A$1:$E$250,formulier!C$6,FALSE))) | D12: =IF(ISBLANK(B12),"",IF(ISNA(VLOOKUP(B12,Namen!$A$1:$E$250,formulier!D$6+J12,FALSE)),"Onbekend",VLOOKUP(B12,Namen!$A$1:$E$250,formulier!D$6+J12,FALSE))) | G12: =IF(ISBLANK(B12),"",INT(E12/(D12/10))) | H12: =IF(AND(D12<1000,D12>0),E12/D12,"") | I12: =IF(F12>0,E12/F12,"") | J12: =IF(COUNTIF(B$9:B12,B12)-1<0,0,COUNTIF(B$9:B12,B12)-1) -> 0 | L12: =IF(ISBLANK($K12),"",IF(ISNA(VLOOKUP($K12,Namen!$A$1:$E$250,formulier!C$6,FALSE)),"Onbekend",VLOOKUP($K12,Namen!$A$1:$E$250,formulier!C$6,FALSE))) | M12: =IF(ISBLANK(K12),"",IF(ISNA(VLOOKUP(K12,Namen!$A$1:$E$250,formulier!M$6+S12,FALSE)),"Onbekend",VLOOKUP(K12,Namen!$A$1:$E$250,formulier!M$6+S12,FALSE))) | O12: =F12 -> 0 | P12: =IF(ISBLANK(K12),"",INT(N12/(M12/10))) | Q12: =IF(AND(M12<1000,M12>0),N12/M12,"") | R12: =IF(O12>0,N12/O12,"") | S12: =IF(COUNTIF(K$9:K12,K12)-1<0,0,COUNTIF(K$9:K12,K12)-1) -> 0
C13: Totalen: | D13: =SUM(D9:D12) -> 32 | E13: =SUM(E9:E12) -> 0 | F13: =SUM(F9:F12) -> 0 | G13: =SUM(G9:G12) -> 0 | H13: =IF(D13>0,E13/D13,"") -> 0 | I13: =IF(F13>0,E13/F13,"") | L13: Totalen: | M13: =SUM(M9:M12) -> 91 | N13: =SUM(N9:N12) -> 0 | O13: =SUM(O9:O12) -> 0 | P13: =SUM(P9:P12) -> 0 | Q13: =IF(M13>0,N13/M13,"") -> 0 | R13: =IF(O13>0,N13/O13,"")
B16: wedstrijddatum: | D16: VR.O. 240426 ** 09.30 | P16: par.Teamleider thuis
B18: bijzonderheden: | D18: update 26.09.25
P20: par.Teamleider uit
A26: Wanneer een speler een dubbele partij moet spelen dan opnieuw zijn spelersnummer in de juiste kolom vermelden.
A27: Voor het thuisspelende team is dat altijd in kolom B rij 12 | K27: Voor het uitspelende team is dat altijd kolom K rij 12
A28: LET OP : ALLEEN DE WITTE VAKKEN INVULLEN !!!!!!

Sheet Namen
A1: bc DRILSCHOLTEN
H2: update 31.03.26
A3: 175 | B3: kessel van wim | D3: 27
A4: 176 | B4: beek van jan | D4: 30 | I4: BANDSTOOT
A5: 177 | B5: schothuis john | D5: 25
A6: 178 | B6: zander gerrit | D6: 27
A7: 179 | B7: snijders fred | D7: 45
A8: 180 | B8: tijert harry | D8: 32
A9: 181 | B9: snijders gerard | D9: 30
A10: 182 | B10: oberje paul | D10: 27
A11: 183 | B11: meijer gerard | D11: 17
A12: 184
A13: 185 | B13: snijders hemmy | D13: 17
A14: 186
A15: 187 | B15: karperien frans | D15: 22
A25: bc HBC
A27: 200 | B27: rekers rob | D27: 30
A28: 201 | B28: schuurman henk | D28: 35
A29: 202 | B29: dijkstra hemmy | D29: 25
A30: 203 | B30: kamphuis hans | D30: 20
A31: 204 | B31: perik henk | D31: 25
A32: 205 | B32: godeke gerrie | D32: 17
A33: 206 | B33: nieuwenhuis hendrik | D33: 20
A34: 207 | B34: meisel-kemper elvira | D34: 15
A35: 208 | B35: benneker olde joop | D35: 17
A36: 209 | B36: kiers addie | D36: 30
A37: 210 | B37: platenkamp jos | D37: 50
A38: 211 | B38: rooselaar gerrit | D38: 30
A39: 212 | B39: muntz luuk | D39: 17
A40: 213 | B40: nijland henk
A41: 214 | B41: nijenhuis chris | D41: 15
A42: 215 | B42: grunder reginald | D42: 15
A43: 216 | B43: jose kamphuis | D43: 25
A50: bc TUINDORP
A51: 230 | B51: dijkstra willem | D51: 32
A52: 231 | B52: overbeek carrie | D52: 27
A53: 232 | B53: bathoorn rudy | D53: 25
A54: 233 | B54: wilmink jan | D54: 22
A55: 234 | B55: grimberg gerrit | D55: 20
A56: 235 | B56: satink andre | D56: 25
A57: 236 | B57: claas frans | D57: 17
A58: 237 | B58: buijzer de nico | D58: 17
A59: 238 | B59: assink chris | D59: 20
A60: 239 | B60: rengerink oude jan | D60: 15
A61: 240
A62: 241
A63: 242
A70: bc STER
A71: 260 | B71: munster van carel | D71: 40
A72: 261 | B72: geerdink john | D72: 27
A73: 262
A74: 263 | B74: bannink theo | D74: 30
A75: 264 | B75: maathuis leo | D75: 30
A76: 265 | B76: hofmeijer bert | D76: 30
A77: 266 | B77: spijker dirk | D77: 25
A78: 267 | B78: veenvliet dick | D78: 25
A79: 268 | B79: brinke te wim | D79: 32
A80: 269 | B80: hans freriksen | D80: 27
A81: 270 | B81: grol peter | D81: 32
A82: 271
A83: 272 | B83: lammert zieferink | D83: 20
A84: 273
A90: bc TUBANTIA
A91: 300 | B91: boes bert | D91: 40
A92: 301 | B92: tilmans jan | D92: 32
A93: 302 | B93: hilverink ben | D93: 32
A94: 303 | B94: dijkstra frits | D94: 27
A95: 304 | B95: chammo samer | D95: 32
A96: 305 | B96: vranken harrie | D96: 22
A97: 306 | B97: boer de roel | D97: 25
A98: 307 | B98: engberink oude hans | D98: 35
A99: 308 | B99: groot frans | D99: 32
A100: 309 | B100: kerver tonnie | D100: 17
A101: 310 | B101: nijhof henk | D101: 27
A102: 311 | B102: daalder patrick | D102: 30
... A106: 315 | B106: kamphuis toon | D106: 27
A114: bc WILHELMINASCHOOL
A115: 350 | B115: jansen frans | D115: 40
A116: 351 | B116: heuver gerrit | D116: 32
A117: 352 | B117: hemmelder marcel | D117: 20
A118: 353 | B118: visscher lino | D118: 20
A119: 354 | B119: engberink oude ben | D119: 32
A120: 355 | B120: marinus waanders | D120: 32
A121: 356 | B121: joop steffens | D121: 27
A122: 357 | B122: vos wim | D122: 15
A123: 358 | B123: seinen henk | D123: 22
A124: 359 | B124: mulder guus | D124: 17
A125: 360 | B125: breteler grote theo | D125: 30
A126: 361
A127: 362 | B127: tolhuis tonnie | D127: 17
A128: 363 | B128: haasewinkel bert | D128: 15
A129: 364 | B129: sarens rob | D129: 22
A130: 365 | B130: roberts emiel | D130: 15
A131: 366 | B131: veenstra jan | D131: 17
A132: 367 | B132: herder sietze | D132: 45
A133: 368 | B133: homan henk | D133: 25
A134: 369 | B134: westerik jos | D134: 20
A135: 370 | B135: roelofs peter | D135: 27
A136: 371 | B136: koster steven | D136: 17
A137: 372
...
